BEGIN:VCALENDAR
VERSION:2.0
PRODID:-//eventon.com NONSGML v1.0//EN
CALSCALE:GREGORIAN
METHOD:PUBLISH
BEGIN:VEVENT
UID:69e5807084acf
DTSTAMP:20260420T012504Z
DTSTART:20240102T180000Z
DTEND:20240102T190000Z
LOCATION:
SUMMARY:Gottesdienst (ABH) - Gebetswoche 2. Tag: Die Bibel
DESCRIPTION:Gebetswoche 2. Tag &#8211; Das Wort Gottes im täglichen Leben\
 nhttps://mbglemgo.de/events/gottesdienst-abh-gebetswoche-2-tag-die-bibel/
URL:https://mbglemgo.de/events/gottesdienst-abh-gebetswoche-2-tag-die-bibel/
END:VEVENT
END:VCALENDAR