BEGIN:VCALENDAR
VERSION:2.0
PRODID:-//eventon.com NONSGML v1.0//EN
CALSCALE:GREGORIAN
METHOD:PUBLISH
BEGIN:VEVENT
UID:69e4ce35dbb4d
DTSTAMP:20260419T124437Z
DTSTART:20240107T090000Z
DTEND:20240107T103000Z
LOCATION:
SUMMARY:Gottesdienst (ASL) - Gebetswoche 7. Tag: Die Wiederkunft Jesu Christi
DESCRIPTION:Gebetswoche 7. Tag &#8211; Die christliche Hoffnung – Die Wie
 derkunft des Herrn\nhttps://mbglemgo.de/events/gottesdienst-asl-gebetswoche
 -7-tag-die-wiederkunft-jesu-christi/
URL:https://mbglemgo.de/events/gottesdienst-asl-gebetswoche-7-tag-die-wiederkunft-jesu-christi/
END:VEVENT
END:VCALENDAR