BEGIN:VCALENDAR
VERSION:2.0
PRODID:-//eventon.com NONSGML v1.0//EN
CALSCALE:GREGORIAN
METHOD:PUBLISH
BEGIN:VEVENT
UID:69e9ec48a3916
DTSTAMP:20260423T095416Z
DTSTART:20240315T180000Z
DTEND:20240315T190000Z
LOCATION:Mennoniten Brüdergemeinde Lemgo Mennoniten Brüdergemeinde Lemgo
SUMMARY:Gebetsstunde - klassisch (ABH)
DESCRIPTION:Live+RVT-Stream\nhttps://mbglemgo.de/events/gebetsstunde-klassi
 sch-abh/
URL:https://mbglemgo.de/events/gebetsstunde-klassisch-abh/
END:VEVENT
END:VCALENDAR