BEGIN:VCALENDAR
VERSION:2.0
PRODID:-//eventon.com NONSGML v1.0//EN
CALSCALE:GREGORIAN
METHOD:PUBLISH
BEGIN:VEVENT
UID:69e8923250446
DTSTAMP:20260422T091738Z
DTSTART:20240124T130000Z
DTEND:20240124T140000Z
LOCATION:
SUMMARY:Trauernachfeier für Schw. Helene Just (ABH)
DESCRIPTION:Live\nhttps://mbglemgo.de/events/trauernachfeier-fuer-schw-hele
 ne-just-abh/
URL:https://mbglemgo.de/events/trauernachfeier-fuer-schw-helene-just-abh/
END:VEVENT
END:VCALENDAR