BEGIN:VCALENDAR
VERSION:2.0
PRODID:-//eventon.com NONSGML v1.0//EN
CALSCALE:GREGORIAN
METHOD:PUBLISH
BEGIN:VEVENT
UID:69e60044937f7
DTSTAMP:20260420T103028Z
DTSTART:20240218T090000Z
DTEND:20240218T103000Z
LOCATION:
SUMMARY:Evangelisation mit Br. Michael Putzi (ABH) | "Gottes Liebe hat keine Grenzen"
DESCRIPTION:Live+RVT-Stream\nhttps://mbglemgo.de/events/evangelisation-mit-
 br-michael-putzi-abh-gottes-liebe-hat-keine-grenzen/
URL:https://mbglemgo.de/events/evangelisation-mit-br-michael-putzi-abh-gottes-liebe-hat-keine-grenzen/
END:VEVENT
END:VCALENDAR