BEGIN:VCALENDAR
VERSION:2.0
PRODID:-//eventon.com NONSGML v1.0//EN
CALSCALE:GREGORIAN
METHOD:PUBLISH
BEGIN:VEVENT
UID:69e9ed4390353
DTSTAMP:20260423T095827Z
DTSTART:20240223T180000Z
DTEND:20240223T190000Z
LOCATION:
SUMMARY:Gebetsstunde - thematisch (ABH) | "Gebet um geistliches Wachstum"
DESCRIPTION:Live+RVT-Stream\nhttps://mbglemgo.de/events/gebetsstunde-themat
 isch-abh-gebet-um-geistliches-wachstum/
URL:https://mbglemgo.de/events/gebetsstunde-thematisch-abh-gebet-um-geistliches-wachstum/
END:VEVENT
END:VCALENDAR