BEGIN:VCALENDAR
VERSION:2.0
PRODID:-//eventon.com NONSGML v1.0//EN
CALSCALE:GREGORIAN
METHOD:PUBLISH
BEGIN:VEVENT
UID:69e838d943850
DTSTAMP:20260422T025625Z
DTSTART:20240604T160000Z
DTEND:20240604T164500Z
LOCATION:Bethaus der MBG Lemgo | ABH im Untergeschoss\,  Am Bauhof 14a\,  Lemgo\,  32657\,  Lemgo\,  DE Bethaus der MBG Lemgo | ABH im Untergeschoss\,  Am Bauhof 14a\,  Lemgo\,  32657\,  Lemgo\,  DE
SUMMARY:Glaubenskurs | Thema 01: Ein geisterfülltes Leben – Gottes Kraft in uns (ABH)
DESCRIPTION:Zielgruppe: Getaufte 2022/2023 (obligatorisch) + Interessierte 
 (freiwillig) &#8211; Live\nhttps://mbglemgo.de/events/glaubenskurs-thema-01
 -ein-geisterfuelltes-leben-gottes-kraft-in-uns-abh/
URL:https://mbglemgo.de/events/glaubenskurs-thema-01-ein-geisterfuelltes-leben-gottes-kraft-in-uns-abh/
END:VEVENT
END:VCALENDAR