BEGIN:VCALENDAR
VERSION:2.0
PRODID:-//eventon.com NONSGML v1.0//EN
CALSCALE:GREGORIAN
METHOD:PUBLISH
BEGIN:VEVENT
UID:69e60079b25e2
DTSTAMP:20260420T103121Z
DTSTART:20240724T090000Z
DTEND:20240724T100000Z
LOCATION:MBG Lemgo | Gemeindehaus &quot;Am Bauhof&quot; [ABH]\,  Am Bauhof 14a\,  Lemgo\,  32657\,  Lemgo\,  DE Am Bauhof 14a\,  32657 Lemgo
SUMMARY:† Trauergottesdienst (ABH) für Br. Peter Dück (sen.)
DESCRIPTION:Live\nhttps://mbglemgo.de/events/%e2%80%a0-trauergottesdienst-a
 bh-fuer-br-peter-dueck-sen/
URL:https://mbglemgo.de/events/%e2%80%a0-trauergottesdienst-abh-fuer-br-peter-dueck-sen/
END:VEVENT
END:VCALENDAR