BEGIN:VCALENDAR
VERSION:2.0
PRODID:-//eventon.com NONSGML v1.0//EN
CALSCALE:GREGORIAN
METHOD:PUBLISH
BEGIN:VEVENT
UID:69e4cf0689bd2
DTSTAMP:20260419T124806Z
DTSTART:20240818T080000Z
DTEND:20240818T093000Z
LOCATION:MBG Lemgo | Gemeindehaus &quot;Am Bauhof&quot; [ABH]\,  Am Bauhof 14a\,  Lemgo\,  32657\,  Lemgo\,  DE Am Bauhof 14a\,  32657 Lemgo
SUMMARY:Gottesdienst mit Segensgebeten zum Schulstart (ABH)
DESCRIPTION:Live+RVT-Stream\nhttps://mbglemgo.de/events/gottesdienst-mit-se
 gensgebeten-zum-schulstart-abh/
URL:https://mbglemgo.de/events/gottesdienst-mit-segensgebeten-zum-schulstart-abh/
END:VEVENT
END:VCALENDAR