BEGIN:VCALENDAR
VERSION:2.0
PRODID:-//eventon.com NONSGML v1.0//EN
CALSCALE:GREGORIAN
METHOD:PUBLISH
BEGIN:VEVENT
UID:69e92b3270bb9
DTSTAMP:20260422T201026Z
DTSTART:20240823T170000Z
DTEND:20240823T180000Z
LOCATION:
SUMMARY:Gebetsstunde - thematisch (ABH) (Freizeitberichte)
DESCRIPTION:Live+RVT-Stream\nhttps://mbglemgo.de/events/gebetsstunde-themat
 isch-abh-freizeitberichte/
URL:https://mbglemgo.de/events/gebetsstunde-thematisch-abh-freizeitberichte/
END:VEVENT
END:VCALENDAR