BEGIN:VCALENDAR
VERSION:2.0
PRODID:-//eventon.com NONSGML v1.0//EN
CALSCALE:GREGORIAN
METHOD:PUBLISH
BEGIN:VEVENT
UID:69eaec4681a6b
DTSTAMP:20260424T040630Z
DTSTART:20240911T170000Z
DTEND:20240911T180000Z
LOCATION:MBG Lemgo | Gemeindehaus &quot;Am Stiftsland&quot; [ASL]\,  Am Stiftsland 19\,  Lemgo\,  32657\,  Lemgo\,  DE Am Stiftsland 19\,  32657 Lemgo
SUMMARY:Bibelstunde (ASL) - Gleichnisse: Der bittende Freund
DESCRIPTION:Bibelstunde (ASL) - Gleichnisse: Der bittende Freund\nhttps://m
 bglemgo.de/events/bibelstunde-asl-gleichnisse-der-bittende-freund/
URL:https://mbglemgo.de/events/bibelstunde-asl-gleichnisse-der-bittende-freund/
END:VEVENT
END:VCALENDAR