BEGIN:VCALENDAR
VERSION:2.0
PRODID:-//eventon.com NONSGML v1.0//EN
CALSCALE:GREGORIAN
METHOD:PUBLISH
BEGIN:VEVENT
UID:69ec9f8a39c70
DTSTAMP:20260425T110338Z
DTSTART:20241229T090000Z
DTEND:20241229T103000Z
LOCATION:MBG Lemgo | Gemeindehaus &quot;Am Bauhof&quot; [ABH]\,  Am Bauhof 14a\,  Lemgo\,  32657\,  Lemgo\,  DE Am Bauhof 14a\,  32657 Lemgo
SUMMARY:Gottesdienst (ABH) | Gebetswoche: "1. Tag - Das Jahr 2024 im Rückblick"
DESCRIPTION:Live+RVT-Stream\nhttps://mbglemgo.de/events/gottesdienst-abh-ge
 betswoche-1-tag-das-jahr-2024-im-rueckblick/
URL:https://mbglemgo.de/events/gottesdienst-abh-gebetswoche-1-tag-das-jahr-2024-im-rueckblick/
END:VEVENT
END:VCALENDAR