BEGIN:VCALENDAR
VERSION:2.0
PRODID:-//eventon.com NONSGML v1.0//EN
CALSCALE:GREGORIAN
METHOD:PUBLISH
BEGIN:VEVENT
UID:69e9ec4228d68
DTSTAMP:20260423T095410Z
DTSTART:20250308T170000Z
DTEND:20250308T190000Z
LOCATION:Gemeindezentrum Am Bauhof Am Bauhof 14A\,  32657 Lemgo
SUMMARY:Eheabend zum Thema "Gelingende Ehen" (ABH)
DESCRIPTION:Live+RVT-Stream\nhttps://mbglemgo.de/events/eheabend-zum-thema-
 gelingende-ehen-abh/
URL:https://mbglemgo.de/events/eheabend-zum-thema-gelingende-ehen-abh/
END:VEVENT
END:VCALENDAR