BEGIN:VCALENDAR
VERSION:2.0
PRODID:-//eventon.com NONSGML v1.0//EN
CALSCALE:GREGORIAN
METHOD:PUBLISH
BEGIN:VEVENT
UID:69e92c2913d3b
DTSTAMP:20260422T201433Z
DTSTART:20251214T090000Z
DTEND:20251214T103000Z
LOCATION:MBG Lemgo | Bethaus &quot;Am Stiftsland&quot; [ASL]\,  Am Stiftsland 19\,  Lemgo\,  32657\,  Lemgo\,  DE Am Stiftsland 19\,  32657 Lemgo
SUMMARY:3. ADVENT | Gottesdienst (ASL)
DESCRIPTION:Live+RVT-Stream\nhttps://mbglemgo.de/events/3-advent-gottesdien
 st-asl/
URL:https://mbglemgo.de/events/3-advent-gottesdienst-asl/
END:VEVENT
END:VCALENDAR