BEGIN:VCALENDAR
VERSION:2.0
PRODID:-//eventon.com NONSGML v1.0//EN
CALSCALE:GREGORIAN
METHOD:PUBLISH
BEGIN:VEVENT
UID:69e9fd740dbfc
DTSTAMP:20260423T110732Z
DTSTART:20250323T090000Z
DTEND:20250323T103000Z
LOCATION:MBG Lemgo | Bethaus &quot;Am Stiftsland&quot; [ASL]\,  Am Stiftsland 19\,  Lemgo\,  32657\,  Lemgo\,  DE Am Stiftsland 19\,  32657 Lemgo
SUMMARY:Gottesdienst (ASL)
DESCRIPTION:Live+RVT-Stream\nhttps://mbglemgo.de/events/gottesdienst-asl-2/
URL:https://mbglemgo.de/events/gottesdienst-asl-2/
END:VEVENT
END:VCALENDAR