BEGIN:VCALENDAR
VERSION:2.0
PRODID:-//eventon.com NONSGML v1.0//EN
CALSCALE:GREGORIAN
METHOD:PUBLISH
BEGIN:VEVENT
UID:69ec0140ef426
DTSTAMP:20260424T234816Z
DTSTART:20250202T090000Z
DTEND:20250202T103000Z
LOCATION:MBG Lemgo | Bethaus &quot;Am Bauhof&quot; [ABH]\,  Am Bauhof 14a\,  Lemgo\,  32657\,  Lemgo\,  DE Am Bauhof 14a\,  32657 Lemgo
SUMMARY:Gottesdienst mit Abendmahl (ABH)
DESCRIPTION:Live+RVT-Stream\nhttps://mbglemgo.de/events/gottesdienst-mit-ab
 endmahl-abh-3/
URL:https://mbglemgo.de/events/gottesdienst-mit-abendmahl-abh-3/
END:VEVENT
END:VCALENDAR