BEGIN:VCALENDAR
VERSION:2.0
PRODID:-//eventon.com NONSGML v1.0//EN
CALSCALE:GREGORIAN
METHOD:PUBLISH
BEGIN:VEVENT
UID:69eaf58104844
DTSTAMP:20260424T044553Z
DTSTART:20240216T170000Z
DTEND:20240216T173000Z
LOCATION:Mennoniten Brüdergemeinde Lemgo Mennoniten Brüdergemeinde Lemgo
SUMMARY:Gebetszeit (ABH)
DESCRIPTION:Live+RVT-Stream\nhttps://mbglemgo.de/events/gebetszeit-abh-4/
URL:https://mbglemgo.de/events/gebetszeit-abh-4/
END:VEVENT
END:VCALENDAR