BEGIN:VCALENDAR
VERSION:2.0
PRODID:-//eventon.com NONSGML v1.0//EN
CALSCALE:GREGORIAN
METHOD:PUBLISH
BEGIN:VEVENT
UID:69e5e95f3bc3b
DTSTAMP:20260420T085247Z
DTSTART:20240526T080000Z
DTEND:20240526T093000Z
LOCATION:
SUMMARY:TAUFFEST | Gottesdienst (ABH)
DESCRIPTION:Live+RVT-Stream\nhttps://mbglemgo.de/events/tauffest-gottesdien
 st-abh-2/
URL:https://mbglemgo.de/events/tauffest-gottesdienst-abh-2/
END:VEVENT
END:VCALENDAR