BEGIN:VCALENDAR
VERSION:2.0
PRODID:-//eventon.com NONSGML v1.0//EN
CALSCALE:GREGORIAN
METHOD:PUBLISH
BEGIN:VEVENT
UID:69e899a4195f7
DTSTAMP:20260422T094924Z
DTSTART:20240616T150000Z
DTEND:20240616T163000Z
LOCATION:Gemeindezentrum Am Bauhof Am Bauhof 14A\,  32657 Lemgo
SUMMARY:Gemeindestunde (ABH)
DESCRIPTION:Live\nhttps://mbglemgo.de/events/gemeindestunde-abh-5/
URL:https://mbglemgo.de/events/gemeindestunde-abh-5/
END:VEVENT
END:VCALENDAR