BEGIN:VCALENDAR
VERSION:2.0
PRODID:-//eventon.com NONSGML v1.0//EN
CALSCALE:GREGORIAN
METHOD:PUBLISH
BEGIN:VEVENT
UID:69ed50291dcda
DTSTAMP:20260425T233713Z
DTSTART:20240707T080000Z
DTEND:20240707T093000Z
LOCATION:MBG Lemgo | Gemeindehaus &quot;Am Bauhof&quot; [ABH]\,  Am Bauhof 14a\,  Lemgo\,  32657\,  Lemgo\,  DE Am Bauhof 14a\,  32657 Lemgo
SUMMARY:Gottesdienst (ABH)
DESCRIPTION:Live+RVT-Stream\nhttps://mbglemgo.de/events/gottesdienst-abh-18
 /
URL:https://mbglemgo.de/events/gottesdienst-abh-18/
END:VEVENT
END:VCALENDAR