BEGIN:VCALENDAR
VERSION:2.0
PRODID:-//eventon.com NONSGML v1.0//EN
CALSCALE:GREGORIAN
METHOD:PUBLISH
BEGIN:VEVENT
UID:69e51b2e50b9e
DTSTAMP:20260419T181302Z
DTSTART:20240714T080000Z
DTEND:20240714T093000Z
LOCATION:MBG Lemgo | Gemeindehaus &quot;Am Stiftsland&quot; [ASL]\,  Am Stiftsland 19\,  Lemgo\,  32657\,  Lemgo\,  DE Am Stiftsland 19\,  32657 Lemgo
SUMMARY:Gottesdienst (ASL)
DESCRIPTION:Gottesdienst (ASL)\nhttps://mbglemgo.de/events/gottesdienst-asl
 -17/
URL:https://mbglemgo.de/events/gottesdienst-asl-17/
END:VEVENT
END:VCALENDAR