BEGIN:VCALENDAR
VERSION:2.0
PRODID:-//eventon.com NONSGML v1.0//EN
CALSCALE:GREGORIAN
METHOD:PUBLISH
BEGIN:VEVENT
UID:69ec3e6b722ec
DTSTAMP:20260425T040915Z
DTSTART:20240719T170000Z
DTEND:20240719T180000Z
LOCATION:MBG Lemgo | Gemeindehaus &quot;Am Bauhof&quot; [ABH]\,  Am Bauhof 14a\,  Lemgo\,  32657\,  Lemgo\,  DE Am Bauhof 14a\,  32657 Lemgo
SUMMARY:Gebetsstunde - regulär (ABH)
DESCRIPTION:Live+RVT-Stream\nhttps://mbglemgo.de/events/gebetsstunde-regula
 er-abh-6/
URL:https://mbglemgo.de/events/gebetsstunde-regulaer-abh-6/
END:VEVENT
END:VCALENDAR