BEGIN:VCALENDAR
VERSION:2.0
PRODID:-//eventon.com NONSGML v1.0//EN
CALSCALE:GREGORIAN
METHOD:PUBLISH
BEGIN:VEVENT
UID:69e88a5017492
DTSTAMP:20260422T084400Z
DTSTART:20241122T170000Z
DTEND:20241122T180000Z
LOCATION:MBG Lemgo | Gemeindehaus &quot;Am Bauhof&quot; [ABH]\,  Am Bauhof 14a\,  Lemgo\,  32657\,  Lemgo\,  DE Am Bauhof 14a\,  32657 Lemgo
SUMMARY:Gebetsstunde - regulär (ABH)
DESCRIPTION:Live+RVT-Stream\nhttps://mbglemgo.de/events/gebetsstunde-regula
 er-abh-14/
URL:https://mbglemgo.de/events/gebetsstunde-regulaer-abh-14/
END:VEVENT
END:VCALENDAR