BEGIN:VCALENDAR
VERSION:2.0
PRODID:-//eventon.com NONSGML v1.0//EN
CALSCALE:GREGORIAN
METHOD:PUBLISH
BEGIN:VEVENT
UID:69e785eb1c160
DTSTAMP:20260421T141259Z
DTSTART:20241224T150000Z
DTEND:20241224T163000Z
LOCATION:Gemeindezentrum Am Bauhof Am Bauhof 14A\,  32657 Lemgo
SUMMARY:HEILIGER ABEND | Gottesdienst (ABH)
DESCRIPTION:Live+RVT-Stream\nhttps://mbglemgo.de/events/heiliger-abend-gott
 esdienst-abh-3/
URL:https://mbglemgo.de/events/heiliger-abend-gottesdienst-abh-3/
END:VEVENT
END:VCALENDAR