BEGIN:VCALENDAR
VERSION:2.0
PRODID:-//eventon.com NONSGML v1.0//EN
CALSCALE:GREGORIAN
METHOD:PUBLISH
BEGIN:VEVENT
UID:69e5e9dc5d6f4
DTSTAMP:20260420T085452Z
DTSTART:20250302T090000Z
DTEND:20250302T103000Z
LOCATION:MBG Lemgo | Bethaus MBG Lemgo | Bethaus
SUMMARY:Gottesdienst mit Abendmahl (ABH)
DESCRIPTION:Live+RVT-Stream\nhttps://mbglemgo.de/events/gottesdienst-mit-ab
 endmahl-abh-16/
URL:https://mbglemgo.de/events/gottesdienst-mit-abendmahl-abh-16/
END:VEVENT
END:VCALENDAR