BEGIN:VCALENDAR
VERSION:2.0
PRODID:-//eventon.com NONSGML v1.0//EN
CALSCALE:GREGORIAN
METHOD:PUBLISH
BEGIN:VEVENT
UID:69e899ffa62d2
DTSTAMP:20260422T095055Z
DTSTART:20250409T170000Z
DTEND:20250409T180000Z
LOCATION:MBG Lemgo | Bethaus &quot;Am Stiftsland&quot; [ASL]\,  Am Stiftsland 19\,  Lemgo\,  32657\,  Lemgo\,  DE Am Stiftsland 19\,  32657 Lemgo
SUMMARY:Bibelstunde (ASL) | "Die Psalmen"
DESCRIPTION:Psalm 42-43 &#8211; Live+RVT-Stream\nhttps://mbglemgo.de/events
 /bibelstunde-asl-14/
URL:https://mbglemgo.de/events/bibelstunde-asl-14/
END:VEVENT
END:VCALENDAR