BEGIN:VCALENDAR
VERSION:2.0
PRODID:-//eventon.com NONSGML v1.0//EN
CALSCALE:GREGORIAN
METHOD:PUBLISH
BEGIN:VEVENT
UID:69e7e46a784e5
DTSTAMP:20260421T205610Z
DTSTART:20250521T170000Z
DTEND:20250521T180000Z
LOCATION:MBG Lemgo | Bethaus &quot;Am Stiftsland&quot; [ASL]\,  Am Stiftsland 19\,  Lemgo\,  32657\,  Lemgo\,  DE Am Stiftsland 19\,  32657 Lemgo
SUMMARY:Gemeindestunde (ASL) | Taufzeugnisse
DESCRIPTION:Live\nhttps://mbglemgo.de/events/gemeindestunde-asl-taufzeugnis
 se-3-2/
URL:https://mbglemgo.de/events/gemeindestunde-asl-taufzeugnisse-3-2/
END:VEVENT
END:VCALENDAR