BEGIN:VCALENDAR
VERSION:2.0
PRODID:-//eventon.com NONSGML v1.0//EN
CALSCALE:GREGORIAN
METHOD:PUBLISH
BEGIN:VEVENT
UID:69ed0d2232e35
DTSTAMP:20260425T185114Z
DTSTART:20250723T170000Z
DTEND:20250723T180000Z
LOCATION:MBG Lemgo | Bethaus &quot;Am Stiftsland&quot; [ASL]\,  Am Stiftsland 19\,  Lemgo\,  32657\,  Lemgo\,  DE Am Stiftsland 19\,  32657 Lemgo
SUMMARY:Bibelstunde (ASL) | "Die Psalmen"
DESCRIPTION:Live+RVT-Stream\nhttps://mbglemgo.de/events/bibelstunde-asl-20/
URL:https://mbglemgo.de/events/bibelstunde-asl-20/
END:VEVENT
END:VCALENDAR