BEGIN:VCALENDAR
VERSION:2.0
PRODID:-//eventon.com NONSGML v1.0//EN
CALSCALE:GREGORIAN
METHOD:PUBLISH
BEGIN:VEVENT
UID:69eb9812a82e3
DTSTAMP:20260424T161930Z
DTSTART:20250207T170000Z
DTEND:20250207T173000Z
LOCATION:MBG Lemgo | Bethaus &quot;Am Bauhof&quot; [ABH]\,  Am Bauhof 14a\,  Lemgo\,  32657\,  Lemgo\,  DE Am Bauhof 14a\,  32657 Lemgo
SUMMARY:Gebetszeit für Evangelisation
DESCRIPTION:Live\nhttps://mbglemgo.de/events/gebetszeit-fuer-evangelisation
 /
URL:https://mbglemgo.de/events/gebetszeit-fuer-evangelisation/
END:VEVENT
END:VCALENDAR