BEGIN:VCALENDAR
VERSION:2.0
PRODID:-//eventon.com NONSGML v1.0//EN
CALSCALE:GREGORIAN
METHOD:PUBLISH
BEGIN:VEVENT
UID:69ec2177cf4a5
DTSTAMP:20260425T020543Z
DTSTART:20250615T150000Z
DTEND:20250615T163000Z
LOCATION:MBG Lemgo | Bethaus &quot;Am Bauhof&quot; [ABH]\,  Am Bauhof 14a\,  Lemgo\,  32657\,  Lemgo\,  DE Am Bauhof 14a\,  32657 Lemgo
SUMMARY:Gemeindestunde (ABH)
DESCRIPTION:Live\nhttps://mbglemgo.de/events/gemeindestunde-abh-14/
URL:https://mbglemgo.de/events/gemeindestunde-abh-14/
END:VEVENT
END:VCALENDAR