BEGIN:VCALENDAR
VERSION:2.0
PRODID:-//eventon.com NONSGML v1.0//EN
CALSCALE:GREGORIAN
METHOD:PUBLISH
BEGIN:VEVENT
UID:69e4e6a8c7b9f
DTSTAMP:20260419T142856Z
DTSTART:20251212T160000Z
DTEND:20251212T170000Z
LOCATION:
SUMMARY:AHF-Weihnachtsgottesdienst (ABH)
DESCRIPTION:Live+RVT-Stream\nhttps://mbglemgo.de/events/ahf-weihnachtsgotte
 sdienst-abh-2/
URL:https://mbglemgo.de/events/ahf-weihnachtsgottesdienst-abh-2/
END:VEVENT
END:VCALENDAR