BEGIN:VCALENDAR
VERSION:2.0
PRODID:-//eventon.com NONSGML v1.0//EN
CALSCALE:GREGORIAN
METHOD:PUBLISH
BEGIN:VEVENT
UID:69e81a1421373
DTSTAMP:20260422T004508Z
DTSTART:20241215T000000Z
DTEND:20241215T000000Z
LOCATION:
SUMMARY:3. ADVENT
DESCRIPTION:3. ADVENT\nhttps://mbglemgo.de/events/3-advent-18/
URL:https://mbglemgo.de/events/3-advent-18/
END:VEVENT
END:VCALENDAR