BEGIN:VCALENDAR
VERSION:2.0
PRODID:-//eventon.com NONSGML v1.0//EN
CALSCALE:GREGORIAN
METHOD:PUBLISH
BEGIN:VEVENT
UID:69e5fd895c1ff
DTSTAMP:20260420T101849Z
DTSTART:20241208T000000Z
DTEND:20241208T000000Z
LOCATION:
SUMMARY:2. ADVENT
DESCRIPTION:2. ADVENT\nhttps://mbglemgo.de/events/2-advent-52/
URL:https://mbglemgo.de/events/2-advent-52/
END:VEVENT
END:VCALENDAR