BEGIN:VCALENDAR
VERSION:2.0
PRODID:-//eventon.com NONSGML v1.0//EN
CALSCALE:GREGORIAN
METHOD:PUBLISH
BEGIN:VEVENT
UID:69e5e8144d285
DTSTAMP:20260420T084716Z
DTSTART:20250105T000000Z
DTEND:20250105T000000Z
LOCATION:
SUMMARY:BET- und FASTTAG
DESCRIPTION:BET- und FASTTAG\nhttps://mbglemgo.de/events/bet-und-fasttag-11
 0/
URL:https://mbglemgo.de/events/bet-und-fasttag-110/
END:VEVENT
END:VCALENDAR