BEGIN:VCALENDAR
VERSION:2.0
PRODID:-//eventon.com NONSGML v1.0//EN
CALSCALE:GREGORIAN
METHOD:PUBLISH
BEGIN:VEVENT
UID:69e9dc1b43258
DTSTAMP:20260423T084515Z
DTSTART:20250101T000000Z
DTEND:20250101T000000Z
LOCATION:
SUMMARY:NEUJAHR
DESCRIPTION:NEUJAHR\nhttps://mbglemgo.de/events/neujahr-77/
URL:https://mbglemgo.de/events/neujahr-77/
END:VEVENT
END:VCALENDAR