BEGIN:VCALENDAR
VERSION:2.0
PRODID:-//eventon.com NONSGML v1.0//EN
CALSCALE:GREGORIAN
METHOD:PUBLISH
BEGIN:VEVENT
UID:69e5fa4350461
DTSTAMP:20260420T100451Z
DTSTART:20241226T000000Z
DTEND:20241226T000000Z
LOCATION:
SUMMARY:2. WEIHNACHTSTAG
DESCRIPTION:2. WEIHNACHTSTAG\nhttps://mbglemgo.de/events/2-weihnachtstag-15
 5/
URL:https://mbglemgo.de/events/2-weihnachtstag-155/
END:VEVENT
END:VCALENDAR