BEGIN:VCALENDAR
VERSION:2.0
PRODID:-//eventon.com NONSGML v1.0//EN
CALSCALE:GREGORIAN
METHOD:PUBLISH
BEGIN:VEVENT
UID:69e9dbf8c6ec7
DTSTAMP:20260423T084440Z
DTSTART:20241231T000000Z
DTEND:20241231T000000Z
LOCATION:
SUMMARY:SILVESTER
DESCRIPTION:SILVESTER\nhttps://mbglemgo.de/events/silvester-78/
URL:https://mbglemgo.de/events/silvester-78/
END:VEVENT
END:VCALENDAR