BEGIN:VCALENDAR
VERSION:2.0
PRODID:-//eventon.com NONSGML v1.0//EN
CALSCALE:GREGORIAN
METHOD:PUBLISH
BEGIN:VEVENT
UID:69e5e86844220
DTSTAMP:20260420T084840Z
DTSTART:20241225T000000Z
DTEND:20241225T000000Z
LOCATION:
SUMMARY:1. WEIHNACHTSTAG
DESCRIPTION:1. WEIHNACHTSTAG\nhttps://mbglemgo.de/events/1-weihnachtstag-15
 6/
URL:https://mbglemgo.de/events/1-weihnachtstag-156/
END:VEVENT
END:VCALENDAR