BEGIN:VCALENDAR
VERSION:2.0
PRODID:-//eventon.com NONSGML v1.0//EN
CALSCALE:GREGORIAN
METHOD:PUBLISH
BEGIN:VEVENT
UID:69e5e8549048d
DTSTAMP:20260420T084820Z
DTSTART:20241222T000000Z
DTEND:20241222T000000Z
LOCATION:
SUMMARY:4. ADVENT
DESCRIPTION:4. ADVENT\nhttps://mbglemgo.de/events/4-advent-212/
URL:https://mbglemgo.de/events/4-advent-212/
END:VEVENT
END:VCALENDAR