BEGIN:VCALENDAR
VERSION:2.0
PRODID:-//eventon.com NONSGML v1.0//EN
CALSCALE:GREGORIAN
METHOD:PUBLISH
BEGIN:VEVENT
UID:69e9eab6cecbf
DTSTAMP:20260423T094734Z
DTSTART:20250501T000000Z
DTEND:20250501T000000Z
LOCATION:
SUMMARY:Tag der Arbeit
DESCRIPTION:Tag der Arbeit\nhttps://mbglemgo.de/events/tag-der-arbeit-6/
URL:https://mbglemgo.de/events/tag-der-arbeit-6/
END:VEVENT
END:VCALENDAR