BEGIN:VCALENDAR
VERSION:2.0
PRODID:-//eventon.com NONSGML v1.0//EN
CALSCALE:GREGORIAN
METHOD:PUBLISH
BEGIN:VEVENT
UID:69e6e32f989bb
DTSTAMP:20260421T023839Z
DTSTART:20260418T090000Z
DTEND:20260418T103000Z
LOCATION:MBG Lemgo | Bethaus &quot;Am Bauhof&quot; [ABH]\,  Am Bauhof 14a\,  32657\,  Lemgo Am Bauhof 14a\,  32657 Lemgo
SUMMARY:Traugottesdienst (ABH) | Fabian Wotzke & Anita Lust
DESCRIPTION:Live+RVT-Stream\nhttps://mbglemgo.de/events/traugottesdienst-ab
 h-4/
URL:https://mbglemgo.de/events/traugottesdienst-abh-4/
END:VEVENT
END:VCALENDAR