BEGIN:VCALENDAR
VERSION:2.0
PRODID:-//eventon.com NONSGML v1.0//EN
CALSCALE:GREGORIAN
METHOD:PUBLISH
BEGIN:VEVENT
UID:69ea0414a3e7b
DTSTAMP:20260423T113548Z
DTSTART:20251207T090000Z
DTEND:20251207T103000Z
LOCATION:MBG Lemgo | Bethaus &quot;Am Stiftsland&quot; [ASL]\,  Am Stiftsland 19\,  Lemgo\,  32657\,  Lemgo\,  DE Am Stiftsland 19\,  32657 Lemgo
SUMMARY:2. ADVENT | Gottesdienst (ASL)
DESCRIPTION:Live+RVT-Stream\nhttps://mbglemgo.de/events/2-advent-gottesdien
 st-asl/
URL:https://mbglemgo.de/events/2-advent-gottesdienst-asl/
END:VEVENT
END:VCALENDAR