BEGIN:VCALENDAR
VERSION:2.0
PRODID:-//eventon.com NONSGML v1.0//EN
CALSCALE:GREGORIAN
METHOD:PUBLISH
BEGIN:VEVENT
UID:69e89b2d06757
DTSTAMP:20260422T095557Z
DTSTART:20250529T000000Z
DTEND:20250529T000000Z
LOCATION:
SUMMARY:HIMMELFAHRT
DESCRIPTION:HIMMELFAHRT\nhttps://mbglemgo.de/events/himmelfahrt-39/
URL:https://mbglemgo.de/events/himmelfahrt-39/
END:VEVENT
END:VCALENDAR