BEGIN:VCALENDAR
VERSION:2.0
PRODID:-//eventon.com NONSGML v1.0//EN
CALSCALE:GREGORIAN
METHOD:PUBLISH
BEGIN:VEVENT
UID:69e5fd95de6c0
DTSTAMP:20260420T101901Z
DTSTART:20261129T160000Z
DTEND:20261129T180000Z
LOCATION:MBG Lemgo | Gemeindehaus &quot;Am Bauhof&quot; [ABH]\,  Am Bauhof 14a\,  32657\,  Lemgo\,  DE MBG Lemgo | Gemeindehaus &quot;Am Bauhof&quot; [ABH]\,  Am Bauhof 14a\,  32657\,  Lemgo\,  DE
SUMMARY:Adventsabend für Familien (ABH)
DESCRIPTION:Live+RVT-Stream\nhttps://mbglemgo.de/events/adventsabend-fuer-f
 amilien-abh-3/
URL:https://mbglemgo.de/events/adventsabend-fuer-familien-abh-3/
END:VEVENT
END:VCALENDAR