BEGIN:VCALENDAR
VERSION:2.0
PRODID:-//eventon.com NONSGML v1.0//EN
CALSCALE:GREGORIAN
METHOD:PUBLISH
BEGIN:VEVENT
UID:69e9daa81ac4a
DTSTAMP:20260423T083904Z
DTSTART:20261227T090000Z
DTEND:20261227T103000Z
LOCATION:MBG Lemgo | Bethaus &quot;Am Bauhof&quot; [ABH]\,  Am Bauhof 14a\,  32657\,  Lemgo\,  DE Am Bauhof 14a\,  32657 Lemgo
SUMMARY:WEIHNACHTEN | Gottesdienst (ABH)
DESCRIPTION:Live+RVT-Stream\nhttps://mbglemgo.de/events/weihnachten-gottesd
 ienst-abh-2/
URL:https://mbglemgo.de/events/weihnachten-gottesdienst-abh-2/
END:VEVENT
END:VCALENDAR