BEGIN:VCALENDAR
VERSION:2.0
PRODID:-//eventon.com NONSGML v1.0//EN
CALSCALE:GREGORIAN
METHOD:PUBLISH
BEGIN:VEVENT
UID:69e785b10e8dd
DTSTAMP:20260421T141201Z
DTSTART:20260304T180000Z
DTEND:20260304T190000Z
LOCATION:MBG Lemgo | Bethaus &quot;Am Stiftsland&quot; [ASL]\,  Am Stiftsland 19\,  32657\,  Lemgo\,  DE Am Stiftsland 19\,  32657 Lemgo
SUMMARY:Bibelstunde (ASL) - Der Prophet Haggai
DESCRIPTION:Live+RVT-Stream\nhttps://mbglemgo.de/events/bibelstunde-asl-der
 -prophet-micha/
URL:https://mbglemgo.de/events/bibelstunde-asl-der-prophet-micha/
END:VEVENT
END:VCALENDAR