BEGIN:VCALENDAR
VERSION:2.0
PRODID:-//eventon.com NONSGML v1.0//EN
CALSCALE:GREGORIAN
METHOD:PUBLISH
BEGIN:VEVENT
UID:69e614fe1a90d
DTSTAMP:20260420T115854Z
DTSTART:20260313T190000Z
DTEND:20260313T220000Z
LOCATION:Am Stiftsland 19\,  32657 Lemgo Am Stiftsland 19\,  32657 Lemgo
SUMMARY:Jugendchor Konzert
DESCRIPTION:Wir sind ein Jugendchor aus Lemgo. Wir glauben\,  dass Gott heu
 te noch wirkt &#8211; und wir möchten Hoffnung und Freude weitergeben. Kom
 m zu unserem Konzert und erlebe es selbst! Kostenfreier Eintritt\nhttps://m
 bglemgo.de/events/jugendchor-konzert/
URL:https://mbglemgo.de/events/jugendchor-konzert/
END:VEVENT
END:VCALENDAR